BEGIN:VCALENDAR
VERSION:2.0
PRODID:-//ChamberMaster//Event Calendar 2.0//EN
METHOD:PUBLISH
X-PUBLISHED-TTL:P1H
REFRESH-INTERVAL:P1H
CALSCALE:GREGORIAN
BEGIN:VTIMEZONE
TZID:America/New_York
BEGIN:DAYLIGHT
RRULE:FREQ=YEARLY;BYMONTH=3;BYDAY=2SU
DTSTART:20070101T000000
TZOFFSETFROM:-0500
TZOFFSETTO:-0400
TZNAME:Eastern Daylight Time
END:DAYLIGHT
BEGIN:STANDARD
RRULE:FREQ=YEARLY;BYMONTH=11;BYDAY=1SU
DTSTART:20070101T000000
TZOFFSETFROM:-0400
TZOFFSETTO:-0500
TZNAME:Eastern Standard Time
END:STANDARD
END:VTIMEZONE
BEGIN:VEVENT
DTSTART;TZID=America/New_York:20250730T120000
DTEND;TZID=America/New_York:20250730T130000
X-MICROSOFT-CDO-ALLDAYEVENT:FALSE
SUMMARY:Blue Tech Talk - Rob McGurrin\, Blue IQ
DESCRIPTION:Join Innovate Newport and The Greater Newport Chamber throughout July and August for a public Lunch & Learn series spotlighting experts\, founders\, and ocean-inspired technology. From smart marinas to underwater acoustic sensors\, each talk reveals the stories and innovations behind game-changing Blue Tech companies.\n\nBlue Tech Talks will take place on Wednesdays from 12-1 pm.  \nJuly 30th: Rob McGurrin\, BlueIQRegister here: Blue Tech Talk - Featuring Rob McGurrin\; Blue IQ Tickets\, Wed\, Jul 30\, 2025 at 12:00 PM | Eventbrite
X-ALT-DESC;FMTTYPE=text/html:<!DOCTYPE html><html><head><title></title></head><body aria-disabled="false"><p><span style="box-sizing: border-box\; color: rgb(19\, 43\, 82)\; font-family: Montserrat\, sans-serif\; font-size: 16px\; font-style: normal\; font-variant-ligatures: normal\; font-variant-caps: normal\; font-weight: 400\; letter-spacing: normal\; orphans: 2\; text-align: start\; text-indent: 0px\; text-transform: none\; widows: 2\; word-spacing: 0px\; -webkit-text-stroke-width: 0px\; white-space: normal\; text-decoration-thickness: initial\; text-decoration-style: initial\; text-decoration-color: initial\; background-color: rgb(255\, 255\, 255)\; float: none\; display: inline !important\;">Join Innovate Newport and The Greater Newport Chamber throughout July and August for a public Lunch &amp\; Learn series spotlighting experts\, founders\, and ocean-inspired technology. From smart marinas to underwater acoustic sensors\, each talk reveals the stories and innovations behind game-changing Blue Tech companies.</span><br style="box-sizing: border-box\; color: rgb(19\, 43\, 82)\; font-family: Montserrat\, sans-serif\; font-size: 16px\; font-style: normal\; font-variant-ligatures: normal\; font-variant-caps: normal\; font-weight: 400\; letter-spacing: normal\; orphans: 2\; text-align: start\; text-indent: 0px\; text-transform: none\; widows: 2\; word-spacing: 0px\; -webkit-text-stroke-width: 0px\; white-space: normal\; text-decoration-thickness: initial\; text-decoration-style: initial\; text-decoration-color: initial\; background-color: rgb(255\, 255\, 255)\;"><br style="box-sizing: border-box\; color: rgb(19\, 43\, 82)\; font-family: Montserrat\, sans-serif\; font-size: 16px\; font-style: normal\; font-variant-ligatures: normal\; font-variant-caps: normal\; font-weight: 400\; letter-spacing: normal\; orphans: 2\; text-align: start\; text-indent: 0px\; text-transform: none\; widows: 2\; word-spacing: 0px\; -webkit-text-stroke-width: 0px\; white-space: normal\; text-decoration-thickness: initial\; text-decoration-style: initial\; text-decoration-color: initial\; background-color: rgb(255\, 255\, 255)\;"><span style="box-sizing: border-box\; color: rgb(19\, 43\, 82)\; font-family: Montserrat\, sans-serif\; font-size: 16px\; font-style: normal\; font-variant-ligatures: normal\; font-variant-caps: normal\; font-weight: 400\; letter-spacing: normal\; orphans: 2\; text-align: start\; text-indent: 0px\; text-transform: none\; widows: 2\; word-spacing: 0px\; -webkit-text-stroke-width: 0px\; white-space: normal\; text-decoration-thickness: initial\; text-decoration-style: initial\; text-decoration-color: initial\; background-color: rgb(255\, 255\, 255)\; float: none\; display: inline !important\;">Blue Tech Talks will take place on Wednesdays from 12-1 pm.</span><span style="color: rgb(19\, 43\, 82)\; font-family: Montserrat\, sans-serif\; font-size: 16px\; font-style: normal\; font-variant-ligatures: normal\; font-variant-caps: normal\; font-weight: 400\; letter-spacing: normal\; orphans: 2\; text-align: start\; text-indent: 0px\; text-transform: none\; widows: 2\; word-spacing: 0px\; -webkit-text-stroke-width: 0px\; white-space: normal\; background-color: rgb(255\, 255\, 255)\; text-decoration-thickness: initial\; text-decoration-style: initial\; text-decoration-color: initial\; display: inline !important\; float: none\;">&nbsp\;</span>&nbsp\;</p><p><br></p><p>July 30th: Rob McGurrin\, BlueIQ</p><p>Register here: <a fr-original-style="" href="https://www.eventbrite.com/e/blue-tech-talk-featuring-rob-mcgurrin-blue-iq-tickets-1366154588149?aff=erelpanelorg" style="user-select: auto\;">Blue Tech Talk - Featuring Rob McGurrin\; Blue IQ Tickets\, Wed\, Jul 30\, 2025 at 12:00 PM | Eventbrite</a>&nbsp\;</p></body></html>
LOCATION:513 Broadway Conference Hall Newport 02840
UID:e.4151.1236684
SEQUENCE:3
DTSTAMP:20260422T171318Z
URL:https://business.newportchamber.com/events/Details/blue-tech-talk-rob-mcgurrin-blue-iq-1444521?sourceTypeId=Hub
END:VEVENT
END:VCALENDAR
